BEGIN:VCALENDAR
VERSION:2.0
PRODID:icalendar-ruby
CALSCALE:GREGORIAN
METHOD:PUBLISH
BEGIN:VEVENT
DTSTAMP:20260421T151113Z
UID:7-226066@congersumc.org
DTSTART:20260816T140000Z
DTEND:20260816T150000Z
CLASS:PUBLIC
CREATED:20260421T110011
DESCRIPTION:
LAST-MODIFIED:20260421T110011
LOCATION:
SUMMARY:Sunday Worship
URL;VALUE=URI:https://www.congersumc.org/events/sunday-worship/2026-08-16
ATTACH;FILENAME=images.jpg;FMTTYPE=image/jpeg:https://dq5pwpg1q8ru0.cloudfr
 ont.net/2025/10/15/22/31/22/4f426313-f5ff-4cf5-8cdd-f9bb6b8ddbc6/images.jp
 g
END:VEVENT
END:VCALENDAR
